BEGIN:VCALENDAR
VERSION:2.0
PRODID:-//Priyanha - ECPv6.13.2.1//NONSGML v1.0//EN
CALSCALE:GREGORIAN
METHOD:PUBLISH
X-ORIGINAL-URL:https://priyanha.com
X-WR-CALDESC:Events for Priyanha
REFRESH-INTERVAL;VALUE=DURATION:PT1H
X-Robots-Tag:noindex
X-PUBLISHED-TTL:PT1H
BEGIN:VTIMEZONE
TZID:America/New_York
BEGIN:DAYLIGHT
TZOFFSETFROM:-0500
TZOFFSETTO:-0400
TZNAME:EDT
DTSTART:20230312T070000
END:DAYLIGHT
BEGIN:STANDARD
TZOFFSETFROM:-0400
TZOFFSETTO:-0500
TZNAME:EST
DTSTART:20231105T060000
END:STANDARD
BEGIN:DAYLIGHT
TZOFFSETFROM:-0500
TZOFFSETTO:-0400
TZNAME:EDT
DTSTART:20240310T070000
END:DAYLIGHT
BEGIN:STANDARD
TZOFFSETFROM:-0400
TZOFFSETTO:-0500
TZNAME:EST
DTSTART:20241103T060000
END:STANDARD
END:VTIMEZONE
BEGIN:VTIMEZONE
TZID:UTC
BEGIN:STANDARD
TZOFFSETFROM:+0000
TZOFFSETTO:+0000
TZNAME:UTC
DTSTART:20230101T000000
END:STANDARD
END:VTIMEZONE
BEGIN:VTIMEZONE
TZID:America/Los_Angeles
BEGIN:DAYLIGHT
TZOFFSETFROM:-0800
TZOFFSETTO:-0700
TZNAME:PDT
DTSTART:20220313T100000
END:DAYLIGHT
BEGIN:STANDARD
TZOFFSETFROM:-0700
TZOFFSETTO:-0800
TZNAME:PST
DTSTART:20221106T090000
END:STANDARD
BEGIN:DAYLIGHT
TZOFFSETFROM:-0800
TZOFFSETTO:-0700
TZNAME:PDT
DTSTART:20230312T100000
END:DAYLIGHT
BEGIN:STANDARD
TZOFFSETFROM:-0700
TZOFFSETTO:-0800
TZNAME:PST
DTSTART:20231105T090000
END:STANDARD
END:VTIMEZONE
BEGIN:VEVENT
DTSTART;TZID=America/New_York:20240824T170000
DTEND;TZID=America/New_York:20240824T230000
DTSTAMP:20260425T133902
CREATED:20240911T223651Z
LAST-MODIFIED:20240911T223651Z
UID:291-1724518800-1724540400@priyanha.com
SUMMARY:Community Altar at *Creating Love*
DESCRIPTION:I’ll be facilitating a community altar at @labrujasart’s fourth installment of “Creating Love.” Come by and check out this beautiful visual and performing artist showcase to celebrate and honor communal creativity and love ❤️ \nDate: 8/23\, 5:00 – 11:00 PM\nLocation: 1093 Putnam Ave\, BK \nFlyer by @labrujasart 🐞
URL:https://priyanha.com/event/community-altar-at-creating-love/
CATEGORIES:Completed
ATTACH;FMTTYPE=image/png:https://priyanha.com/wp-content/uploads/2024/09/Screenshot-2024-09-11-at-6.33.44 PM.png
END:VEVENT
BEGIN:VEVENT
DTSTART;TZID=UTC:20230815T190000
DTEND;TZID=UTC:20230815T210000
DTSTAMP:20260425T133902
CREATED:20230630T183858Z
LAST-MODIFIED:20240716T212730Z
UID:199-1692126000-1692133200@priyanha.com
SUMMARY:Grief and Collage Cafe with Mariko Tamegai
DESCRIPTION:Grief and Collage Cafe with Mariko Tamegai\n\n\n\n\n\n\n\nAugust 15th 7- 9pm Sliding Scale Donation: $5-$40 \nMaha Rose Brooklyn – 200 Columbia Streetm BK \nRegistration – https://www.maharose.com/grief-and-collage-cafe \n\n\n\n\n\n\n\n\n\n\n\n\n\n\nThis space will be a place to process feelings of grief\, loss\, and fear of death through community and artistic expression. We will start with a guided creativity meditation\, followed by an open collage space\, and close with space for reflection and discussion. Materials and tea will be provided\, but please feel free to bring any collage supplies. There will also be reflection phrases and prompts for free-writing\, collage inspiration and instruction.
URL:https://priyanha.com/event/grief-and-collage-cafe-with-mariko-tamegai/
LOCATION:Maharose\, 200 Columbia St\, Brooklyn\, NY\, 11231\, United States
CATEGORIES:Completed
ATTACH;FMTTYPE=image/png:https://priyanha.com/wp-content/uploads/2023/06/Grieving-through-Collaging-11.png
END:VEVENT
BEGIN:VEVENT
DTSTART;TZID=America/Los_Angeles:20230523T183000
DTEND;TZID=America/Los_Angeles:20230523T203000
DTSTAMP:20260425T133902
CREATED:20240716T212407Z
LAST-MODIFIED:20240716T212407Z
UID:275-1684866600-1684873800@priyanha.com
SUMMARY:Grief and Collage Cafe
DESCRIPTION:Come join us on May 23rd from 6:30 PM – 8:30 PM for a Grief and Collage Cafe. This space will be a place to process feeling of grief\, loss\, and fear of death through community and artistic expression. We will start with a guided creativity meditation\, followed by an open collage space\, and close with space for reflection and discussion. Materials and tea will be provided\, but please feel free to bring any collage supplies. There will also be reflection phrases and prompts for free-writing\, collage inspiration\, and instruction. This offering will be co-guided by Mariko Tamegai and Priyanha Nadanasabesan. Mariko is an end of life doula\, Reiki Master\, and sound healer. Priyanha is a community death doula and artist with @colectiva_ammor_. This event will take place at Grand Street Healing Project located at 105 Grand Street\, BK. Please feel free to reach out to collectiva.ammor@gmail.com or info@cosmoshealing.org with any questions or thoughts. There are limited spots for this offering\, please register using the link in @colectiva_ammor_’s bio. We hope to see you there!
URL:https://priyanha.com/event/grief-and-collage-cafe-2/
LOCATION:Grand Street Healing Project\, 105 Grand Street\, Brooklyn\, NY\, 11249\, United States
CATEGORIES:Completed
ATTACH;FMTTYPE=image/png:https://priyanha.com/wp-content/uploads/2024/07/Grieving-through-Collaging-10.png
END:VEVENT
BEGIN:VEVENT
DTSTART;TZID=America/New_York:20230221T183000
DTEND;TZID=America/New_York:20230221T200000
DTSTAMP:20260425T133902
CREATED:20240716T211610Z
LAST-MODIFIED:20240716T211610Z
UID:270-1677004200-1677009600@priyanha.com
SUMMARY:Death and Collage Cafe
DESCRIPTION:Come join us on February 21st from 6:30 PM – 8:00 PM for a Death + Collage Cafe. This space will be a place to get curious about the topic of death and dying through community and artistic expression. We will start with a short guided creativity meditation\, followed by an open collage space\, and close with another meditation. Materials and tea will be provided\, but please feel free to bring any collage supplies. There will also be reflection phrases and prompts for collage inspiration and instruction. This offering will be co-guided by Mariko Tamegai and Priyanha Nadanasabesan. Mariko is an end of life doula\, Reiki Master and sound healer. Priyanha is a community death worker and artist with @colectiva_ammor_. This event is not a grief support group\, but instead an intentional place to begin exploring the inevitability of death through the creative process. For alternative resources on grief support or any other questions please feel free to reach out to collectiva.ammor@gmail.com. There are limited spots for this offering\, please register using the link in @colectiva_ammor’s and @marico893’s bio. We hope to see you there!
URL:https://priyanha.com/event/death-and-collage-cafe/
LOCATION:Mil Mundos Books\, 323 Linden Street\, Brooklyn\, NY\, 11237\, United States
CATEGORIES:Completed
ATTACH;FMTTYPE=image/png:https://priyanha.com/wp-content/uploads/2024/07/Grieving-through-Collaging-9.png
END:VEVENT
BEGIN:VEVENT
DTSTART;TZID=America/New_York:20230129T170000
DTEND;TZID=America/New_York:20230129T200000
DTSTAMP:20260425T133902
CREATED:20240716T200317Z
LAST-MODIFIED:20240716T200317Z
UID:262-1675011600-1675022400@priyanha.com
SUMMARY:Community Health Autonomy Conversation on Death and Dying
DESCRIPTION:This session will be an introduction to the “death positivity” movement\, with a facilitated discussion on topics such as how to begin talking about death\, destigmatizing difficult conversations\, grief focused community care\, and where to further explore death-related resources. There will be plenty of room in the discussion for attendees to bring up topics they are curious about reflecting on. All are encouraged to read this text in advance of attending\, “The Death Positive Movement Encourages Us to Face Death Directly” – Tai Gooden\, 2020 : https://nerdist.com/article/death-positive-movement/ \nThis is part of Rebuilding Health Autonomy\, an ongoing series of assemblies\, meetings\, and projects focused on the body and healthcare.
URL:https://priyanha.com/event/community-health-autonomy-conversation-on-death-and-dying/
LOCATION:Woodbine\, 585 Woodward Ave\, Ridgewood\, NY\, 11385\, United States
CATEGORIES:Completed
ATTACH;FMTTYPE=image/png:https://priyanha.com/wp-content/uploads/2024/07/Community-Conversation-on-Death-Dying.png
END:VEVENT
BEGIN:VEVENT
DTSTART;TZID=America/Los_Angeles:20221024T180000
DTEND;TZID=America/Los_Angeles:20221024T193000
DTSTAMP:20260425T133902
CREATED:20240716T193340Z
LAST-MODIFIED:20240716T193340Z
UID:256-1666634400-1666639800@priyanha.com
SUMMARY:Death Cafe and Altar Supply Swap
DESCRIPTION:Come join us for a Death Cafe on Oct 24th from 6:00 PM – 7:30 PM! This space will be a free flowing and open community conversation about any and all things related to death and grief. Topics can include death in books\, how we honor our loved ones\, grief in our body\, or anything else you can think of. Mariko Tamegai and Priyanha Nadanasabesan will be co-guiding the cafe. Mariko is a community end of life doula\, reiki practitioner\, and sound healer. Priyanha is a community focused death worker and artist. This event will include a guided meditation\, an altar supply swap\, tea\, and snacks. Feel free to bring a candle\, a flower\, a stone\, or just yourself!
URL:https://priyanha.com/event/death-cafe-and-altar-supply-swap/
LOCATION:Mil Mundos Books\, 323 Linden Street\, Brooklyn\, NY\, 11237\, United States
CATEGORIES:Completed
ATTACH;FMTTYPE=image/png:https://priyanha.com/wp-content/uploads/2024/07/Grief-Cafe-5.png
END:VEVENT
END:VCALENDAR