BEGIN:VCALENDAR
VERSION:2.0
PRODID:-//Priyanha - ECPv6.13.2.1//NONSGML v1.0//EN
CALSCALE:GREGORIAN
METHOD:PUBLISH
X-WR-CALNAME:Priyanha
X-ORIGINAL-URL:https://priyanha.com
X-WR-CALDESC:Events for Priyanha
REFRESH-INTERVAL;VALUE=DURATION:PT1H
X-Robots-Tag:noindex
X-PUBLISHED-TTL:PT1H
BEGIN:VTIMEZONE
TZID:America/New_York
BEGIN:DAYLIGHT
TZOFFSETFROM:-0500
TZOFFSETTO:-0400
TZNAME:EDT
DTSTART:20240310T070000
END:DAYLIGHT
BEGIN:STANDARD
TZOFFSETFROM:-0400
TZOFFSETTO:-0500
TZNAME:EST
DTSTART:20241103T060000
END:STANDARD
END:VTIMEZONE
BEGIN:VTIMEZONE
TZID:UTC
BEGIN:STANDARD
TZOFFSETFROM:+0000
TZOFFSETTO:+0000
TZNAME:UTC
DTSTART:20230101T000000
END:STANDARD
END:VTIMEZONE
BEGIN:VEVENT
DTSTART;TZID=America/New_York:20240811T160000
DTEND;TZID=America/New_York:20240811T200000
DTSTAMP:20260425T134734
CREATED:20240805T172026Z
LAST-MODIFIED:20240805T172026Z
UID:284-1723392000-1723406400@priyanha.com
SUMMARY:*Art from da Heart*
DESCRIPTION:Art from da Heart\nRAIN DATE: 8/11 4:00 – 8:00 PM \n@labrujasart is curating a creative community event at Green Oasis Garden in LES. I’ll be vending grief zines\, prints\, and stickers and facilitating a community altar. Come by and check out the local vendors\, performing artists\, arts and crafts station\, and more 🎨 \nFlyer by @labrujasart 💙
URL:https://priyanha.com/event/art-from-da-heart/
CATEGORIES:Upcoming
ATTACH;FMTTYPE=image/jpeg:https://priyanha.com/wp-content/uploads/2024/08/452754D6-6615-4083-847B-21995BAE35BE.jpg
END:VEVENT
BEGIN:VEVENT
DTSTART;TZID=UTC:20230714T180000
DTEND;TZID=UTC:20230714T200000
DTSTAMP:20260425T134734
CREATED:20230630T182759Z
LAST-MODIFIED:20230630T130958Z
UID:197-1689357600-1689364800@priyanha.com
SUMMARY:Altar Supply Swap + Kit Party
DESCRIPTION:Come join us at Mil Mundos Books on July 14th\, from 6:00 PM – 8:00 PM\, for an altar supply swap and kit making party. We will have a range of non-denominational spiritual materials for you to choose from to make a personalized altar kit 🕯🌸✨ Feel free to bring any supplies you’d like to swap. You can make a kit to honor a loved one\, celebrate healing\, or for whatever intention you feel called to. This space will be guided by Priyanha Nadanasabesan. Priyanha is a community death doula and artist working with @colectiva_ammor_. No prior altar making experience is necessary to join this event and everyone is welcome. Come be in community\, get creative with your altar setups\, and pick up your spiritual summer reads 🌞 Please reach out to collectiva.ammor@gmail.com with any thoughts or questions. We hope to see you there! \nSPANISH TRANSLATION \nVen a Mil Mundos el viernes 14 de julio\, de 6:00 a 8:00 PM\, participa en el intercambio de ofrendas para altares y arma tu propio kit. Tendremos una amplia gama de materiales a escoger (no asociados a ninguna religión en específico) para que hagas tu kit personalizado 🕯🌸✨ Trae materiales para intercambiar. Puedes hacer un kit para honrar a un ser querido\, celebrar alguna sanación o usarlos para cualquier motivo importante para ti. El evento será guiado por Priyanha Nadanasabesan. Priyanha es una doula de la muerte trabajando comunitariamente y es artista parte de @colectiva_ammor_. No es necesario tener experiencia previa con altares para ser parte de este evento y todes son bienvenides. Ven a crear comunidad\, haz uso de tu creatividad armando altares\, y llévate lo que necesites para tener un verano espiritual. Escríbenos a collectiva.ammor@gmail.com si tienes preguntas o curiosidad. ¡Esperamos verte ahí!
URL:https://priyanha.com/event/altar-supply-swap-kit-party/
CATEGORIES:Upcoming
ATTACH;FMTTYPE=image/png:https://priyanha.com/wp-content/uploads/2023/06/Altar-Supply-Kit-1-1.png
END:VEVENT
END:VCALENDAR