BEGIN:VCALENDAR
VERSION:2.0
PRODID:-//Priyanha - ECPv6.13.2.1//NONSGML v1.0//EN
CALSCALE:GREGORIAN
METHOD:PUBLISH
X-ORIGINAL-URL:https://priyanha.com
X-WR-CALDESC:Events for Priyanha
REFRESH-INTERVAL;VALUE=DURATION:PT1H
X-Robots-Tag:noindex
X-PUBLISHED-TTL:PT1H
BEGIN:VTIMEZONE
TZID:America/Los_Angeles
BEGIN:DAYLIGHT
TZOFFSETFROM:-0800
TZOFFSETTO:-0700
TZNAME:PDT
DTSTART:20260308T100000
END:DAYLIGHT
BEGIN:STANDARD
TZOFFSETFROM:-0700
TZOFFSETTO:-0800
TZNAME:PST
DTSTART:20261101T090000
END:STANDARD
END:VTIMEZONE
BEGIN:VEVENT
DTSTART;TZID=America/Los_Angeles:20260321T140000
DTEND;TZID=America/Los_Angeles:20260321T160000
DTSTAMP:20260425T163024
CREATED:20260324T172620Z
LAST-MODIFIED:20260324T172620Z
UID:324-1774101600-1774108800@priyanha.com
SUMMARY:Spring Equinox Collage Cafe
DESCRIPTION:The transition between seasons often brings surges of energy in all directions – grief\, hope\, nostalgia\, anxiety\, joy\, motivation\, exhaustion\, reflection 🫟 Come honor the Spring Equinox and channel all that’s coming up for you in a free open collage space at the Brooklyn Public Library – Macon Branch\, on 3/20\, from 2-4pm. Materials & guided prompts will be provided\, please feel free to bring anything else you’d like to create with. Spots are limited – please rsvp 🔮 See you there! \nThis space will be facilitated by community death doula and artist Priyanha Nadanasabesan (she/they). Their offerings aim to be non judgmental spaces that center care\, collective liberation\, creative authenticity & spiritual exploration. For anything questions\, thoughts\, or accessibility needs email priyanha.nadanasabesan@gmail.com.
URL:https://priyanha.com/event/spring-equinox-collage-cafe/
LOCATION:Brooklyn Public Library – Macon Branch\, The Heritage Room\, 361 Lewis Ave\, Brooklyn\, NY\, 11233
ATTACH;FMTTYPE=image/png:https://priyanha.com/wp-content/uploads/2026/03/Priyanha-Equinox-Collage-Flyer.png
END:VEVENT
END:VCALENDAR